BEGIN:VCALENDAR
VERSION:2.0
PRODID:-//Chatham Area Republican Women - ECPv6.15.18//NONSGML v1.0//EN
CALSCALE:GREGORIAN
METHOD:PUBLISH
X-WR-CALNAME:Chatham Area Republican Women
X-ORIGINAL-URL:https://chathamarw.org
X-WR-CALDESC:Events for Chatham Area Republican Women
REFRESH-INTERVAL;VALUE=DURATION:PT1H
X-Robots-Tag:noindex
X-PUBLISHED-TTL:PT1H
BEGIN:VTIMEZONE
TZID:UTC
BEGIN:STANDARD
TZOFFSETFROM:+0000
TZOFFSETTO:+0000
TZNAME:UTC
DTSTART:20240101T000000
END:STANDARD
END:VTIMEZONE
BEGIN:VEVENT
DTSTART;TZID=UTC:20250903T113000
DTEND;TZID=UTC:20250903T131500
DTSTAMP:20260425T144910
CREATED:20250810T173900Z
LAST-MODIFIED:20250819T133522Z
UID:2497-1756899000-1756905300@chathamarw.org
SUMMARY:CARW Meeting
DESCRIPTION:Speaker:  Lee Beckmann\, General Manager of Community and Governmental Affairs\, Georgia Ports Authority
URL:https://chathamarw.org/event/carw-meeting-11/
ATTACH;FMTTYPE=image/jpeg:https://chathamarw.org/wp-content/uploads/2025/08/Sept-2025-Speaker-flyer-2-scaled.jpg
END:VEVENT
END:VCALENDAR