BEGIN:VCALENDAR
VERSION:2.0
PRODID:-//Chatham Area Republican Women - ECPv6.15.18//NONSGML v1.0//EN
CALSCALE:GREGORIAN
METHOD:PUBLISH
X-ORIGINAL-URL:https://chathamarw.org
X-WR-CALDESC:Events for Chatham Area Republican Women
REFRESH-INTERVAL;VALUE=DURATION:PT1H
X-Robots-Tag:noindex
X-PUBLISHED-TTL:PT1H
BEGIN:VTIMEZONE
TZID:UTC
BEGIN:STANDARD
TZOFFSETFROM:+0000
TZOFFSETTO:+0000
TZNAME:UTC
DTSTART:20230101T000000
END:STANDARD
END:VTIMEZONE
BEGIN:VEVENT
DTSTART;TZID=UTC:20240403T113000
DTEND;TZID=UTC:20240403T133000
DTSTAMP:20260420T000449
CREATED:20240314T193355Z
LAST-MODIFIED:20240314T193355Z
UID:2258-1712143800-1712151000@chathamarw.org
SUMMARY:CARW Meeting
DESCRIPTION:Speakers will be Judicial Candidates:\nMary Kathryn Moss\, Chatham County Magistrate Court – Chief Magistrate\nTracie Macke\, Chatham County Magistrate Court\nFrank Pennington\, Chatham County State Superior Court
URL:https://chathamarw.org/event/carw-meeting-3/
LOCATION:Savannah Country Club\, 501 Wilmington Island Road\, Savannah\, GA\, 31410
END:VEVENT
BEGIN:VEVENT
DTSTART;TZID=UTC:20240418T120000
DTEND;TZID=UTC:20240418T141500
DTSTAMP:20260420T000449
CREATED:20240314T191256Z
LAST-MODIFIED:20240314T192706Z
UID:2257-1713441600-1713449700@chathamarw.org
SUMMARY:LOTR Meeting
DESCRIPTION:LOTR Luncheon Meeting\nwww.ladiesontheright.org
URL:https://chathamarw.org/event/lotr-meeting-3/
LOCATION:Palmetto Club
END:VEVENT
BEGIN:VEVENT
DTSTART;TZID=UTC:20240427T100000
DTEND;TZID=UTC:20240427T123000
DTSTAMP:20260420T000449
CREATED:20240314T195350Z
LAST-MODIFIED:20240314T195531Z
UID:2261-1714212000-1714221000@chathamarw.org
SUMMARY:CC GOP Candidates Breakfast
DESCRIPTION:Speakers will be Republican Non-Partisan Candidates and Republican Candidates on the May 21 Republican ballot.
URL:https://chathamarw.org/event/cc-gop-candidates-breakfast/
LOCATION:Savannah Country Club\, 501 Wilmington Island Road\, Savannah\, GA\, 31410
END:VEVENT
END:VCALENDAR