BEGIN:VCALENDAR
VERSION:2.0
PRODID:-//Chatham Area Republican Women - ECPv6.15.18//NONSGML v1.0//EN
CALSCALE:GREGORIAN
METHOD:PUBLISH
X-WR-CALNAME:Chatham Area Republican Women
X-ORIGINAL-URL:https://chathamarw.org
X-WR-CALDESC:Events for Chatham Area Republican Women
REFRESH-INTERVAL;VALUE=DURATION:PT1H
X-Robots-Tag:noindex
X-PUBLISHED-TTL:PT1H
BEGIN:VTIMEZONE
TZID:UTC
BEGIN:STANDARD
TZOFFSETFROM:+0000
TZOFFSETTO:+0000
TZNAME:UTC
DTSTART:20230101T000000
END:STANDARD
END:VTIMEZONE
BEGIN:VEVENT
DTSTART;TZID=UTC:20240501T113000
DTEND;TZID=UTC:20240501T133000
DTSTAMP:20260419T202409
CREATED:20240314T194501Z
LAST-MODIFIED:20240314T194501Z
UID:2259-1714563000-1714570200@chathamarw.org
SUMMARY:CARW Meeting
DESCRIPTION:Speakers will be candidates on the Non-Partisan/Primary ballot May 21\nNote: May 21 is the only election for Non-Partisan Offices (i.e.\, School Board & Judges) \nDue to the limited size of the meeting room\, we will be limited to 50 guests. Purchase your lunch TODAY! \n 
URL:https://chathamarw.org/event/carw-meeting-3-2/
LOCATION:Carey Hilliards\, 3316 Skidaway Road\, Savannah\, 31404\, United States
END:VEVENT
END:VCALENDAR