BEGIN:VCALENDAR
VERSION:2.0
PRODID:-//Chatham Area Republican Women - ECPv6.15.18//NONSGML v1.0//EN
CALSCALE:GREGORIAN
METHOD:PUBLISH
X-WR-CALNAME:Chatham Area Republican Women
X-ORIGINAL-URL:https://chathamarw.org
X-WR-CALDESC:Events for Chatham Area Republican Women
REFRESH-INTERVAL;VALUE=DURATION:PT1H
X-Robots-Tag:noindex
X-PUBLISHED-TTL:PT1H
BEGIN:VTIMEZONE
TZID:UTC
BEGIN:STANDARD
TZOFFSETFROM:+0000
TZOFFSETTO:+0000
TZNAME:UTC
DTSTART:20230101T000000
END:STANDARD
END:VTIMEZONE
BEGIN:VEVENT
DTSTART;TZID=UTC:20240605T113000
DTEND;TZID=UTC:20240605T133000
DTSTAMP:20260419T165932
CREATED:20240621T172448Z
LAST-MODIFIED:20240621T172448Z
UID:2309-1717587000-1717594200@chathamarw.org
SUMMARY:CARW Meeting
DESCRIPTION:Michael Sarhatt\, Director of the Savannah-Chatham Counter Narcotics Team\, will be our speaker. \nWe will also make our annual scholarship awards. This year we will make not one but two $1000 scholarship awards.
URL:https://chathamarw.org/event/carw-meeting-4/
LOCATION:Savannah Country Club\, 501 Wilmington Island Road\, Savannah\, GA\, 31410
END:VEVENT
BEGIN:VEVENT
DTSTART;TZID=UTC:20240620T120000
DTEND;TZID=UTC:20240620T143000
DTSTAMP:20260419T165932
CREATED:20240621T172713Z
LAST-MODIFIED:20240621T172713Z
UID:2310-1718884800-1718893800@chathamarw.org
SUMMARY:LOTR Meeting
DESCRIPTION:WWW.LADIESONTHERIGHT.ORG – Home
URL:https://chathamarw.org/event/lotr-meeting-4/
LOCATION:Palmetto Club
END:VEVENT
END:VCALENDAR