BEGIN:VCALENDAR
VERSION:2.0
PRODID:-//Chatham Area Republican Women - ECPv6.15.18//NONSGML v1.0//EN
CALSCALE:GREGORIAN
METHOD:PUBLISH
X-WR-CALNAME:Chatham Area Republican Women
X-ORIGINAL-URL:https://chathamarw.org
X-WR-CALDESC:Events for Chatham Area Republican Women
REFRESH-INTERVAL;VALUE=DURATION:PT1H
X-Robots-Tag:noindex
X-PUBLISHED-TTL:PT1H
BEGIN:VTIMEZONE
TZID:UTC
BEGIN:STANDARD
TZOFFSETFROM:+0000
TZOFFSETTO:+0000
TZNAME:UTC
DTSTART:20230101T000000
END:STANDARD
END:VTIMEZONE
BEGIN:VEVENT
DTSTART;VALUE=DATE:20240703
DTEND;VALUE=DATE:20240704
DTSTAMP:20260419T115341
CREATED:20240621T173329Z
LAST-MODIFIED:20240621T173329Z
UID:2312-1719964800-1720051199@chathamarw.org
SUMMARY:NO CARW Meeting
DESCRIPTION:Enjoy your 4th!!
URL:https://chathamarw.org/event/no-carw-meeting/
END:VEVENT
END:VCALENDAR