BEGIN:VCALENDAR
VERSION:2.0
PRODID:-//Chatham Area Republican Women - ECPv6.15.18//NONSGML v1.0//EN
CALSCALE:GREGORIAN
METHOD:PUBLISH
X-WR-CALNAME:Chatham Area Republican Women
X-ORIGINAL-URL:https://chathamarw.org
X-WR-CALDESC:Events for Chatham Area Republican Women
REFRESH-INTERVAL;VALUE=DURATION:PT1H
X-Robots-Tag:noindex
X-PUBLISHED-TTL:PT1H
BEGIN:VTIMEZONE
TZID:UTC
BEGIN:STANDARD
TZOFFSETFROM:+0000
TZOFFSETTO:+0000
TZNAME:UTC
DTSTART:20240101T000000
END:STANDARD
END:VTIMEZONE
BEGIN:VEVENT
DTSTART;TZID=UTC:20250806T113000
DTEND;TZID=UTC:20250806T131500
DTSTAMP:20260425T130951
CREATED:20250702T155536Z
LAST-MODIFIED:20250702T155536Z
UID:2479-1754479800-1754486100@chathamarw.org
SUMMARY:CARW Meeting
DESCRIPTION:Speaker:  Jesse Petrea\, Georgia State Legislator District 166 \n 
URL:https://chathamarw.org/event/carw-meeting-10/
LOCATION:Savannah Country Club\, 501 Wilmington Island Road\, Savannah\, GA\, 31410
ATTACH;FMTTYPE=image/jpeg:https://chathamarw.org/wp-content/uploads/2019/05/Jesse-Petrea.jpg
END:VEVENT
END:VCALENDAR