BEGIN:VCALENDAR
VERSION:2.0
PRODID:-//Chatham Area Republican Women - ECPv6.15.18//NONSGML v1.0//EN
CALSCALE:GREGORIAN
METHOD:PUBLISH
X-WR-CALNAME:Chatham Area Republican Women
X-ORIGINAL-URL:https://chathamarw.org
X-WR-CALDESC:Events for Chatham Area Republican Women
REFRESH-INTERVAL;VALUE=DURATION:PT1H
X-Robots-Tag:noindex
X-PUBLISHED-TTL:PT1H
BEGIN:VTIMEZONE
TZID:UTC
BEGIN:STANDARD
TZOFFSETFROM:+0000
TZOFFSETTO:+0000
TZNAME:UTC
DTSTART:20250101T000000
END:STANDARD
END:VTIMEZONE
BEGIN:VEVENT
DTSTART;TZID=UTC:20260107T113000
DTEND;TZID=UTC:20260107T131500
DTSTAMP:20260421T102537
CREATED:20251204T045435Z
LAST-MODIFIED:20251207T015744Z
UID:2614-1767785400-1767791700@chathamarw.org
SUMMARY:CARW Meeting
DESCRIPTION:[vc_row][vc_column][vc_column_text css=””]GOP Candidates for US House of Representatives will speak: \n\nMatt Day\nPat Farrell\nBrian Montgomery\nKrista Penn\nKandiss Taylor\n\n[/vc_column_text][/vc_column][/vc_row]
URL:https://chathamarw.org/event/carw-lunch/
LOCATION:Savannah Country Club\, 501 Wilmington Island Road\, Savannah\, GA\, 31410
END:VEVENT
END:VCALENDAR